BEGIN:VCALENDAR
VERSION:2.0
PRODID:-//British Columbia Aviation Council//Silkstart Technology Inc.//
BEGIN:VTIMEZONE
TZID:America/Vancouver
BEGIN:DAYLIGHT
DTSTART;VALUE=DATE-TIME:20260308T020000
TZNAME:PDT
TZOFFSETFROM:-0800
TZOFFSETTO:-0700
END:DAYLIGHT
BEGIN:STANDARD
DTSTART;VALUE=DATE-TIME:20261101T020000
TZNAME:PST
TZOFFSETFROM:-0700
TZOFFSETTO:-0800
END:STANDARD
END:VTIMEZONE
BEGIN:VEVENT
SUMMARY:Pacific Chapter (CILTNA) presents: From Concept to Reality: 
 Advancing Air Mobility in Canada’s Transportation Ecosystem
DTSTART;TZID=America/Vancouver;VALUE=DATE-TIME:20260511T160000
DTEND;TZID=America/Vancouver;VALUE=DATE-TIME:20260511T190000
DTSTAMP;VALUE=DATE-TIME:20260418T045820
UID:69e30f6c51ea1f05dc17bd61
DESCRIPTION: The Pacific Chapter of CILTNA invites you to join them for a 
 reception and presentation by a distinguished guest speaker\, JR Hammond\,
  Executive Director of CAAM (Canadian Advanced Air Mobility). JR&rsquo\;s 
 presentation will focus on how Advanced Air Mobility (AAM) is moving from 
 concept to real-world deployment in Canada\, with a practical look at how 
 drones and emerging aerial technologies are already reshaping logistics\, 
 infrastructure inspection\, and emergency response. Grounded in 
 CAAM&rsquo\;s work\, the talk will highlight current pilot projects\, 
 regulatory progress\, and near-term commercial use cases relevant to the 
 Vancouver gateway &ndash\; showing how industry\, government\, and 
 academia can collaborate to integrate AAM into existing supply chains and 
 transportation systems. When: May 11\, 2026 4:30 pm &ndash\; Registration 
 5:00 pm to 7:00 pm &ndash\; Reception/Presentation Where: Terminal City 
 Club\, 837 West Hastings Street\, Vancouver\, BC V6C 1B6 Cost: Non-Member:
  $80.00 Member: $65.00 Student: $55.00 About the speaker: JR Hammond\, 
 Executive Director of CAAM (Canadian Advanced Air Mobility) JR is the 
 Executive Director of CAAM\, the Canadian Advanced Air Mobility. CAAM is a
  Federal Not for Profit organization that acts as the catalyst for the new
  Advanced Air Mobility (AAM) industry in Canada. Advanced Air Mobility is 
 defined as unlocking Zero-Emission (Electric &amp\; Hydrogen) Aircraft to 
 operate in Canada both as flying vehicles and larger commercial airplanes.
  AAM operations focus on moving people\, goods and services in both 
 piloted and remotely piloted aircraft on intra-urban and inter-regional 
 routes. Sponsored by: 
LOCATION:837 W Hastings St\, Vancouver\, BC V6C 1B6\, Canada
PRIORITY:5
URL:https://bcaviationcouncil.silkstart.com:443/events/pacific-chapter-
 ciltna-presents-from-concept-to-reality-advancing-air-mobility-in-canadas-
 transportation-ecosystem
END:VEVENT
END:VCALENDAR
